BEGIN:VCALENDAR
VERSION:2.0
PRODID:gruene-dithmarschen.de
METHOD:PUBLISH
BEGIN:VTIMEZONE
TZID:Europe/Berlin
X-LIC-LOCATION:Europe/Berlin
BEGIN:DAYLIGHT
TZOFFSETFROM:+0100
TZOFFSETTO:+0200
TZNAME:CEST
DTSTART:19700329T020000
RRULE:FREQ=YEARLY;INTERVAL=1;BYDAY=-1SU;BYMONTH=3
END:DAYLIGHT
BEGIN:STANDARD
TZOFFSETFROM:+0200
TZOFFSETTO:+0100
TZNAME:CET
DTSTART:19701025T030000
RRULE:FREQ=YEARLY;INTERVAL=1;BYDAY=-1SU;BYMONTH=10
END:STANDARD
END:VTIMEZONE
BEGIN:VEVENT
UID:90cc68a45fc493a0f5ec74c49afd8620@gruene-dithmarschen.de
URL;VALUE=URI:https://gruene-dithmarschen.de/termine/lag-verkehr/
LOCATION:
SUMMARY:LAG Verkehr
DESCRIPTION;ALTREP="data:text/html,%0A%3Cp%3E%3Ca%20href%3D%22https%3A%2F
 %2Fsh-gruene-de.zoom-x.de%2Fj%2F61528427573%3Fpwd%3DhOqmJFOPb0XhIQf2qbzBg
 kRko3taFm.1%22%3Ehttps%3A%2F%2Fsh-gruene-de.zoom-x.de%2Fj%2F61528427573%3
 Fpwd%3DhOqmJFOPb0XhIQf2qbzBgkRko3taFm.1%3C%2Fa%3E%3C%2Fp%3E%0A%0A%0A%0A%3
 Cp%3E%3C%2Fp%3E%0A":https://sh-gruene-de.zoom-x.de/j/61528427573?pwd=hOqm
 JFOPb0XhIQf2qbzBgkRko3taFm.1
CLASS:PUBLIC
DTSTART;TZID=Europe/Berlin:20260420T190000
DTEND;TZID=Europe/Berlin:20260420T200000
DTSTAMP:20260420T140346
END:VEVENT
END:VCALENDAR