BEGIN:VCALENDAR
VERSION:2.0
PRODID:gruene-dithmarschen.de
METHOD:PUBLISH
BEGIN:VTIMEZONE
TZID:Europe/Berlin
X-LIC-LOCATION:Europe/Berlin
BEGIN:DAYLIGHT
TZOFFSETFROM:+0100
TZOFFSETTO:+0200
TZNAME:CEST
DTSTART:19700329T020000
RRULE:FREQ=YEARLY;INTERVAL=1;BYDAY=-1SU;BYMONTH=3
END:DAYLIGHT
BEGIN:STANDARD
TZOFFSETFROM:+0200
TZOFFSETTO:+0100
TZNAME:CET
DTSTART:19701025T030000
RRULE:FREQ=YEARLY;INTERVAL=1;BYDAY=-1SU;BYMONTH=10
END:STANDARD
END:VTIMEZONE
BEGIN:VEVENT
UID:1cb9bf302dbf44acde00e78625d80599@gruene-dithmarschen.de
URL;VALUE=URI:https://gruene-dithmarschen.de/termine/lag-europa-friedens-
 und-aussenpolitik/
LOCATION:
SUMMARY:LAG Europa, Friedens- und Außenpolitik
DESCRIPTION;ALTREP="data:text/html,%0A%3Cp%3E%3Ca%20href%3D%22https%3A%2F
 %2Fsh-gruene-de.zoom-x.de%2Fj%2F61901406665%3Fpwd%3Dg63TtRhd3hYbCeLqModgI
 g1yaqkmr9.1%22%3Ehttps%3A%2F%2Fsh-gruene-de.zoom-x.de%2Fj%2F61901406665%3
 Fpwd%3Dg63TtRhd3hYbCeLqModgIg1yaqkmr9.1%3C%2Fa%3E%3C%2Fp%3E%0A":https://s
 h-gruene-de.zoom-x.de/j/61901406665?pwd=g63TtRhd3hYbCeLqModgIg1yaqkmr9.1
CLASS:PUBLIC
DTSTART;TZID=Europe/Berlin:20260320T180000
DTEND;TZID=Europe/Berlin:20260320T190000
DTSTAMP:20260420T093325
END:VEVENT
END:VCALENDAR