BEGIN:VCALENDAR
VERSION:2.0
PRODID:gruene-dithmarschen.de
METHOD:PUBLISH
BEGIN:VTIMEZONE
TZID:Europe/Berlin
X-LIC-LOCATION:Europe/Berlin
BEGIN:DAYLIGHT
TZOFFSETFROM:+0100
TZOFFSETTO:+0200
TZNAME:CEST
DTSTART:19700329T020000
RRULE:FREQ=YEARLY;INTERVAL=1;BYDAY=-1SU;BYMONTH=3
END:DAYLIGHT
BEGIN:STANDARD
TZOFFSETFROM:+0200
TZOFFSETTO:+0100
TZNAME:CET
DTSTART:19701025T030000
RRULE:FREQ=YEARLY;INTERVAL=1;BYDAY=-1SU;BYMONTH=10
END:STANDARD
END:VTIMEZONE
BEGIN:VEVENT
UID:929ac112fea87d4436a52da433ddfa95@gruene-dithmarschen.de
URL;VALUE=URI:https://gruene-dithmarschen.de/termine/dithmarschen-auf-der
 -suche-nach-neuen-naturschutzgebieten/
LOCATION:Parkplatz Wanderpark Lunden, Heimatmuseum Lunden, Wilhelmstr. 18
 , Lunden
SUMMARY:Dithmarschen: Auf der Suche nach neuen Naturschutzgebieten
DESCRIPTION;ALTREP="data:text/html,%0A%3Ch2%20class%3D%22wp-block-heading
 %22%3EOrt%201%3A%20%20%20%28Wanderung%29%20Lundener%20Moor%2C%20Parkplatz
 %20Naturerlebnisraum%20Wanderpark%20Lunden%3C%2Fh2%3E%0A%0A%0A%0A%3Ch2%20
 class%3D%22wp-block-heading%22%3EOrt%202%3A%20%28Info%20%26amp%3B%20Disku
 ssion%29%20Heimatmuseum%20%22NaTour%22%20Lunden%2C%20Wilhelmstr.%2018%2C%
 2025774%20Lunden%3C%2Fh2%3E%0A%0A%0A%0A%3Cp%3ESilke%20Backsen%2C%20Mitgli
 ed%20des%20Landtages%20Schleswig-Holstein%2C%20l%C3%A4dt%20alle%20Interes
 sierten%20zur%3C%2Fp%3E%0A%0A%0A%0A%3Cp%3EVeranstaltung%20%3Cstrong%3E%E2
 %80%9CAuf%20der%20Suche%20nach%20neuen%20Naturschutzgebieten%E2%80%9D%20a
 m%20%3C%2Fstrong%3E%3Cstrong%3E16.04.2026%3C%2Fstrong%3E%20herzlich%20ein
 %21%3C%2Fp%3E%0A%0A%0A%0A%3Cp%3EDie%20Veranstaltung%20ist%20zweigeteilt%3
 A%3C%2Fp%3E%0A%0A%0A%0A%3Cp%3E16.04.%2C%20%3Cstrong%3E16%3A00-17%3A00%3A%
 20%3C%2Fstrong%3E%3Cstrong%3ERundgang%20durch%20das%20Lundener%20Moor%3C%
 2Fstrong%3E%2C%20Treffpunkt%3A%20%22Naturerlebnisraum%20Wanderpark%3C%2Fp
 %3E%0A%0A%0A%0A%3Cp%3ELunden%22%3C%2Fp%3E%0A%0A%0A%0A%3Cp%3E16.04.%2C%20%
 3Cstrong%3E17%3A30-19%3A00%3C%2Fstrong%3E%3Cstrong%3E%3A%3C%2Fstrong%3E%2
 0%3Cstrong%3EInfo-%20%26amp%3B%3C%2Fstrong%3E%20%3Cstrong%3EMitmachverans
 taltung%3C%2Fstrong%3E%20zur%20gemeinsamen%20Erarbeitung%20neuer%20m%C3%B
 6glicher%3C%2Fp%3E%0A%0A%0A%0A%3Cp%3ENaturschutzgebiete%20im%20Kreis%2C%2
 0Treffpunkt%3A%20Heimatmuseum%20Lunden%20%22NatTour%22%2C%20Wilhelmstra%C
 3%9Fe%2018%2C%2025774%3C%2Fp%3E%0A%0A%0A%0A%3Cp%3ELunden%3C%2Fp%3E%0A%0A%
 0A%0A%3Cp%3EEs%20ist%20problemlos%20m%C3%B6glich%2C%20auch%20nur%20am%20S
 paziergang%20oder%20nur%20an%20der%20Info-Veranstaltung%20teilzunehmen.%2
 0Die%3C%2Fp%3E%0A%0A%0A%0A%3Cp%3EEinladung%20richtet%20sich%20an%20alle%2
 0Naturbegeisterten%20%E2%80%93%20eine%20Parteimitgliedschaft%20ist%20nich
 t%20erforderlich.%3C%2Fp%3E%0A%0A%0A%0A%3Cp%3EDa%20das%20Gel%C3%A4nde%20t
 eilweise%20feucht%20sein%20kann%2C%20wird%20empfohlen%2C%20Gummistiefel%2
 0oder%20andere%20wasserfeste%20Schuhe%3C%2Fp%3E%0A%0A%0A%0A%3Cp%3Esowie%2
 0wetterfeste%20Kleidung%20je%20nach%20Witterung%20mitzubringen.%3C%2Fp%3E
 %0A%0A%0A%0A%3Cp%3E%3Cstrong%3EEine%20%3C%2Fstrong%3E%3Cstrong%3EAnmeldun
 g%20%3C%2Fstrong%3E%3Cstrong%3Eist%20nicht%20erforderlich%2C%20wird%20abe
 r%20zur%20besseren%20Planung%20unter%3C%2Fstrong%3E%3C%2Fp%3E%0A%0A%0A%0A
 %3Cp%3E%3Cstrong%3E%3Ca%20href%3D%22mailto%3Aregionalbuero%40silkebacksen
 .de%22%3Eregionalbuero%40silkebacksen.de%3C%2Fa%3E%20%3C%2Fstrong%3E%3Cst
 rong%3Ebegr%C3%BC%C3%9Ft.%3C%2Fstrong%3E%3C%2Fp%3E%0A":Ort 1:   (Wanderun
 g) Lundener Moor\, Parkplatz Naturerlebnisraum Wanderpark Lunden\n\nOrt 2
 : (Info & Diskussion) Heimatmuseum "NaTour" Lunden\, Wilhelmstr. 18\, 257
 74 Lunden\n\nSilke Backsen\, Mitglied des Landtages Schleswig-Holstein\, 
 lädt alle Interessierten zur\n\nVeranstaltung “Auf der Suche nach neue
 n Naturschutzgebieten” am 16.04.2026 herzlich ein!\n\nDie Veranstaltung
  ist zweigeteilt:\n\n16.04.\, 16:00-17:00: Rundgang durch das Lundener Mo
 or\, Treffpunkt: "Naturerlebnisraum Wanderpark\n\nLunden"\n\n16.04.\, 17:
 30-19:00: Info- & Mitmachveranstaltung zur gemeinsamen Erarbeitung neuer 
 möglicher\n\nNaturschutzgebiete im Kreis\, Treffpunkt: Heimatmuseum Lund
 en "NatTour"\, Wilhelmstraße 18\, 25774\n\nLunden\n\nEs ist problemlos m
 öglich\, auch nur am Spaziergang oder nur an der Info-Veranstaltung teil
 zunehmen. Die\n\nEinladung richtet sich an alle Naturbegeisterten – ein
 e Parteimitgliedschaft ist nicht erforderlich.\n\nDa das Gelände teilwei
 se feucht sein kann\, wird empfohlen\, Gummistiefel oder andere wasserfes
 te Schuhe\n\nsowie wetterfeste Kleidung je nach Witterung mitzubringen.\n
 \nEine Anmeldung ist nicht erforderlich\, wird aber zur besseren Planung 
 unter\n\nregionalbuero@silkebacksen.de begrüßt.
CLASS:PUBLIC
DTSTART;TZID=Europe/Berlin:20260416T160000
DTEND;TZID=Europe/Berlin:20260416T190000
DTSTAMP:20260421T093410
END:VEVENT
END:VCALENDAR